{
 "currentVersion": 10.61,
 "serviceDescription": "BrooklineElevationModel_2FTHillshade",
 "name": "BrooklineElevationModel_2FTHillshade",
 "description": "",
 "extent": {
  "xmin": 743114.3999831825,
  "ymin": 2932616.8600143343,
  "xmax": 762750.3999831825,
  "ymax": 2953314.8600143343,
  "spatialReference": {
   "wkid": 102686,
   "latestWkid": 2249
  }
 },
 "initialExtent": {
  "xmin": 743114.3999831825,
  "ymin": 2932616.8600143343,
  "xmax": 762750.3999831825,
  "ymax": 2953314.8600143343,
  "spatialReference": {
   "wkid": 102686,
   "latestWkid": 2249
  }
 },
 "fullExtent": {
  "xmin": 743114.3999831825,
  "ymin": 2932616.8600143343,
  "xmax": 762750.3999831825,
  "ymax": 2953314.8600143343,
  "spatialReference": {
   "wkid": 102686,
   "latestWkid": 2249
  }
 },
 "pixelSizeX": 2,
 "pixelSizeY": 2,
 "bandCount": 1,
 "pixelType": "U8",
 "minPixelSize": 0,
 "maxPixelSize": 0,
 "copyrightText": "",
 "serviceDataType": "esriImageServiceDataTypeGeneric",
 "minValues": [
  0
 ],
 "maxValues": [
  255
 ],
 "meanValues": [
  178.03268071015268
 ],
 "stdvValues": [
  15.79608358536376
 ],
 "objectIdField": "",
 "fields": [],
 "capabilities": "Image,Metadata,Mensuration",
 "defaultMosaicMethod": "Center",
 "allowedMosaicMethods": "",
 "sortField": "",
 "sortValue": null,
 "mosaicOperator": "First",
 "defaultCompressionQuality": 75,
 "defaultResamplingMethod": "Bilinear",
 "maxImageHeight": 4100,
 "maxImageWidth": 15000,
 "allowRasterFunction": true,
 "rasterFunctionInfos": [
  {
   "name": "None",
   "description": "",
   "help": ""
  }
 ],
 "rasterTypeInfos": [
  {
   "name": "Raster Dataset",
   "description": "Supports all ArcGIS Raster Datasets",
   "help": ""
  }
 ],
 "mensurationCapabilities": "Basic",
 "hasHistograms": true,
 "hasColormap": false,
 "hasRasterAttributeTable": true,
 "minScale": 0,
 "maxScale": 0,
 "exportTilesAllowed": false,
 "hasMultidimensions": false,
 "supportsStatistics": false,
 "supportsAdvancedQueries": false,
 "editFieldsInfo": null,
 "ownershipBasedAccessControlForRasters": null,
 "allowComputeTiePoints": false,
 "useStandardizedQueries": true,
 "advancedQueryCapabilities": {
  "useStandardizedQueries": true,
  "supportsStatistics": false,
  "supportsOrderBy": false,
  "supportsDistinct": false,
  "supportsPagination": false
 },
 "spatialReference": {
  "wkid": 102686,
  "latestWkid": 2249
 }
}
