View In:
ArcGIS JavaScript
ArcGIS Online Map Viewer
ArcGIS Earth
ArcMap
View Footprint In:
ArcGIS Online Map Viewer
Service Description: BrooklineElevationModel_2FTHillshade
Name: BrooklineElevationModel_2FTHillshade
Description:
Single Fused Map Cache: false
Extent:
XMin: 743114.3999831825
YMin: 2932616.8600143343
XMax: 762750.3999831825
YMax: 2953314.8600143343
Spatial Reference: 102686
(2249)
Initial Extent:
XMin: 743114.3999831825
YMin: 2932616.8600143343
XMax: 762750.3999831825
YMax: 2953314.8600143343
Spatial Reference: 102686
(2249)
Full Extent:
XMin: 743114.3999831825
YMin: 2932616.8600143343
XMax: 762750.3999831825
YMax: 2953314.8600143343
Spatial Reference: 102686
(2249)
Pixel Size X: 2.0
Pixel Size Y: 2.0
Band Count: 1
Pixel Type: U8
RasterFunction Infos: {"rasterFunctionInfos": [{
"name": "None",
"description": "",
"help": ""
}]}
Mensuration Capabilities: Basic
Has Histograms: true
Has Colormap: false
Has Multi Dimensions : false
Rendering Rule:
Min Scale: 0
Max Scale: 0
Copyright Text:
Service Data Type: esriImageServiceDataTypeGeneric
Min Values: 0
Max Values: 255
Mean Values: 178.03268071015268
Standard Deviation Values: 15.79608358536376
Object ID Field:
Fields:
None
Default Mosaic Method: Center
Allowed Mosaic Methods:
SortField:
SortValue: null
Mosaic Operator: First
Default Compression Quality: 75
Default Resampling Method: Bilinear
Max Record Count: null
Max Image Height: 4100
Max Image Width: 15000
Max Download Image Count: null
Max Mosaic Image Count: null
Allow Raster Function: true
Allow Compute TiePoints: false
Supports Statistics: false
Supports Advanced Queries: false
Use StandardizedQueries: true
Raster Type Infos:
Name: Raster Dataset
Description: Supports all ArcGIS Raster Datasets
Help:
Has Raster Attribute Table: true
Edit Fields Info: null
Ownership Based AccessControl For Rasters: null
Child Resources:
Info
Raster Attribute Table
Histograms
Key Properties
Legend
MultiDimensionalInfo
rasterFunctionInfos
Supported Operations:
Export Image
Identify
Measure
Compute Histograms
Compute Statistics Histograms
Get Samples
Compute Class Statistics
Query Boundary